Workbook

Sheet Sammelabrechnung
B2: Badischer Tischtennis Verband e.V.
B4: Anlage zur Sammelabrechnung
C6: Veranstaltung: | M6: Ort, Datum:
F10: Abfahrtszeit | G10: (Wohnort) | H10: Ankunftszeit | I10: (Wohnort) | K10: Fahrtkosten | O10: Übernachtung
L11: eigener PKW
B12: Lfd. Nr. | C12: Name | D12: Vorname | E12: Wohnort | J12: Tagegeld | K12: öffentl. Verkehrs-mittel/Taxi | L12: gef. km | M12: je km | N12: insges. | P12: Sonst. | Q12: Gesamt-Betrag | R12: Quittung (von jedem selbst zu unterschreiben)
B13: =IF(C13="","",COUNTIF($C$13:C13,"<>")) | D13: =IF(C13="","",IFERROR(INDEX(Stammdaten!$B$4:$B$203,MATCH(C13,Stammdaten!$A$4:$A$203,0)),"")) | E13: =IF(C13="","",IFERROR(INDEX(Stammdaten!$C$4:$C$203,MATCH(C13,Stammdaten!$A$4:$A$203,0)),"")) | M13: =IF(C13="","",IFERROR(IF(INDEX(Stammdaten!$D$4:$D$203,MATCH(C13,Stammdaten!$A$4:$A$203,0))=0,Einstellungen!$B$4,INDEX(Stammdaten!$D$4:$D$203,MATCH(C13,Stammdaten!$A$4:$A$203,0))),Einstellungen!$B$4)) | N13: =IF(OR(L13="",M13="",L13=0,M13=0),"",L13*M13) | Q13: =IF(SUM(J13,K13,N13,O13,P13)=0,"",SUM(J13,K13,N13,O13,P13))
B14: =IF(C14="","",COUNTIF($C$13:C14,"<>")) | D14: =IF(C14="","",IFERROR(INDEX(Stammdaten!$B$4:$B$203,MATCH(C14,Stammdaten!$A$4:$A$203,0)),"")) | E14: =IF(C14="","",IFERROR(INDEX(Stammdaten!$C$4:$C$203,MATCH(C14,Stammdaten!$A$4:$A$203,0)),"")) | M14: =IF(C14="","",IFERROR(IF(INDEX(Stammdaten!$D$4:$D$203,MATCH(C14,Stammdaten!$A$4:$A$203,0))=0,Einstellungen!$B$4,INDEX(Stammdaten!$D$4:$D$203,MATCH(C14,Stammdaten!$A$4:$A$203,0))),Einstellungen!$B$4)) | N14: =IF(OR(L14="",M14="",L14=0,M14=0),"",L14*M14) | Q14: =IF(SUM(J14,K14,N14,O14,P14)=0,"",SUM(J14,K14,N14,O14,P14))
B15: =IF(C15="","",COUNTIF($C$13:C15,"<>")) | D15: =IF(C15="","",IFERROR(INDEX(Stammdaten!$B$4:$B$203,MATCH(C15,Stammdaten!$A$4:$A$203,0)),"")) | E15: =IF(C15="","",IFERROR(INDEX(Stammdaten!$C$4:$C$203,MATCH(C15,Stammdaten!$A$4:$A$203,0)),"")) | M15: =IF(C15="","",IFERROR(IF(INDEX(Stammdaten!$D$4:$D$203,MATCH(C15,Stammdaten!$A$4:$A$203,0))=0,Einstellungen!$B$4,INDEX(Stammdaten!$D$4:$D$203,MATCH(C15,Stammdaten!$A$4:$A$203,0))),Einstellungen!$B$4)) | N15: =IF(OR(L15="",M15="",L15=0,M15=0),"",L15*M15) | Q15: =IF(SUM(J15,K15,N15,O15,P15)=0,"",SUM(J15,K15,N15,O15,P15))
B16: =IF(C16="","",COUNTIF($C$13:C16,"<>")) | D16: =IF(C16="","",IFERROR(INDEX(Stammdaten!$B$4:$B$203,MATCH(C16,Stammdaten!$A$4:$A$203,0)),"")) | E16: =IF(C16="","",IFERROR(INDEX(Stammdaten!$C$4:$C$203,MATCH(C16,Stammdaten!$A$4:$A$203,0)),"")) | M16: =IF(C16="","",IFERROR(IF(INDEX(Stammdaten!$D$4:$D$203,MATCH(C16,Stammdaten!$A$4:$A$203,0))=0,Einstellungen!$B$4,INDEX(Stammdaten!$D$4:$D$203,MATCH(C16,Stammdaten!$A$4:$A$203,0))),Einstellungen!$B$4)) | N16: =IF(OR(L16="",M16="",L16=0,M16=0),"",L16*M16) | Q16: =IF(SUM(J16,K16,N16,O16,P16)=0,"",SUM(J16,K16,N16,O16,P16))
B17: =IF(C17="","",COUNTIF($C$13:C17,"<>")) | D17: =IF(C17="","",IFERROR(INDEX(Stammdaten!$B$4:$B$203,MATCH(C17,Stammdaten!$A$4:$A$203,0)),"")) | E17: =IF(C17="","",IFERROR(INDEX(Stammdaten!$C$4:$C$203,MATCH(C17,Stammdaten!$A$4:$A$203,0)),"")) | M17: =IF(C17="","",IFERROR(IF(INDEX(Stammdaten!$D$4:$D$203,MATCH(C17,Stammdaten!$A$4:$A$203,0))=0,Einstellungen!$B$4,INDEX(Stammdaten!$D$4:$D$203,MATCH(C17,Stammdaten!$A$4:$A$203,0))),Einstellungen!$B$4)) | N17: =IF(OR(L17="",M17="",L17=0,M17=0),"",L17*M17) | Q17: =IF(SUM(J17,K17,N17,O17,P17)=0,"",SUM(J17,K17,N17,O17,P17))
B18: =IF(C18="","",COUNTIF($C$13:C18,"<>")) | D18: =IF(C18="","",IFERROR(INDEX(Stammdaten!$B$4:$B$203,MATCH(C18,Stammdaten!$A$4:$A$203,0)),"")) | E18: =IF(C18="","",IFERROR(INDEX(Stammdaten!$C$4:$C$203,MATCH(C18,Stammdaten!$A$4:$A$203,0)),"")) | M18: =IF(C18="","",IFERROR(IF(INDEX(Stammdaten!$D$4:$D$203,MATCH(C18,Stammdaten!$A$4:$A$203,0))=0,Einstellungen!$B$4,INDEX(Stammdaten!$D$4:$D$203,MATCH(C18,Stammdaten!$A$4:$A$203,0))),Einstellungen!$B$4)) | N18: =IF(OR(L18="",M18="",L18=0,M18=0),"",L18*M18) | Q18: =IF(SUM(J18,K18,N18,O18,P18)=0,"",SUM(J18,K18,N18,O18,P18))
B19: =IF(C19="","",COUNTIF($C$13:C19,"<>")) | D19: =IF(C19="","",IFERROR(INDEX(Stammdaten!$B$4:$B$203,MATCH(C19,Stammdaten!$A$4:$A$203,0)),"")) | E19: =IF(C19="","",IFERROR(INDEX(Stammdaten!$C$4:$C$203,MATCH(C19,Stammdaten!$A$4:$A$203,0)),"")) | M19: =IF(C19="","",IFERROR(IF(INDEX(Stammdaten!$D$4:$D$203,MATCH(C19,Stammdaten!$A$4:$A$203,0))=0,Einstellungen!$B$4,INDEX(Stammdaten!$D$4:$D$203,MATCH(C19,Stammdaten!$A$4:$A$203,0))),Einstellungen!$B$4)) | N19: =IF(OR(L19="",M19="",L19=0,M19=0),"",L19*M19) | Q19: =IF(SUM(J19,K19,N19,O19,P19)=0,"",SUM(J19,K19,N19,O19,P19))
B20: =IF(C20="","",COUNTIF($C$13:C20,"<>")) | D20: =IF(C20="","",IFERROR(INDEX(Stammdaten!$B$4:$B$203,MATCH(C20,Stammdaten!$A$4:$A$203,0)),"")) | E20: =IF(C20="","",IFERROR(INDEX(Stammdaten!$C$4:$C$203,MATCH(C20,Stammdaten!$A$4:$A$203,0)),"")) | M20: =IF(C20="","",IFERROR(IF(INDEX(Stammdaten!$D$4:$D$203,MATCH(C20,Stammdaten!$A$4:$A$203,0))=0,Einstellungen!$B$4,INDEX(Stammdaten!$D$4:$D$203,MATCH(C20,Stammdaten!$A$4:$A$203,0))),Einstellungen!$B$4)) | N20: =IF(OR(L20="",M20="",L20=0,M20=0),"",L20*M20) | Q20: =IF(SUM(J20,K20,N20,O20,P20)=0,"",SUM(J20,K20,N20,O20,P20))
B21: =IF(C21="","",COUNTIF($C$13:C21,"<>")) | D21: =IF(C21="","",IFERROR(INDEX(Stammdaten!$B$4:$B$203,MATCH(C21,Stammdaten!$A$4:$A$203,0)),"")) | E21: =IF(C21="","",IFERROR(INDEX(Stammdaten!$C$4:$C$203,MATCH(C21,Stammdaten!$A$4:$A$203,0)),"")) | M21: =IF(C21="","",IFERROR(IF(INDEX(Stammdaten!$D$4:$D$203,MATCH(C21,Stammdaten!$A$4:$A$203,0))=0,Einstellungen!$B$4,INDEX(Stammdaten!$D$4:$D$203,MATCH(C21,Stammdaten!$A$4:$A$203,0))),Einstellungen!$B$4)) | N21: =IF(OR(L21="",M21="",L21=0,M21=0),"",L21*M21) | Q21: =IF(SUM(J21,K21,N21,O21,P21)=0,"",SUM(J21,K21,N21,O21,P21))
B22: =IF(C22="","",COUNTIF($C$13:C22,"<>")) | D22: =IF(C22="","",IFERROR(INDEX(Stammdaten!$B$4:$B$203,MATCH(C22,Stammdaten!$A$4:$A$203,0)),"")) | E22: =IF(C22="","",IFERROR(INDEX(Stammdaten!$C$4:$C$203,MATCH(C22,Stammdaten!$A$4:$A$203,0)),"")) | M22: =IF(C22="","",IFERROR(IF(INDEX(Stammdaten!$D$4:$D$203,MATCH(C22,Stammdaten!$A$4:$A$203,0))=0,Einstellungen!$B$4,INDEX(Stammdaten!$D$4:$D$203,MATCH(C22,Stammdaten!$A$4:$A$203,0))),Einstellungen!$B$4)) | N22: =IF(OR(L22="",M22="",L22=0,M22=0),"",L22*M22) | Q22: =IF(SUM(J22,K22,N22,O22,P22)=0,"",SUM(J22,K22,N22,O22,P22))
B23: =IF(C23="","",COUNTIF($C$13:C23,"<>")) | D23: =IF(C23="","",IFERROR(INDEX(Stammdaten!$B$4:$B$203,MATCH(C23,Stammdaten!$A$4:$A$203,0)),"")) | E23: =IF(C23="","",IFERROR(INDEX(Stammdaten!$C$4:$C$203,MATCH(C23,Stammdaten!$A$4:$A$203,0)),"")) | M23: =IF(C23="","",IFERROR(IF(INDEX(Stammdaten!$D$4:$D$203,MATCH(C23,Stammdaten!$A$4:$A$203,0))=0,Einstellungen!$B$4,INDEX(Stammdaten!$D$4:$D$203,MATCH(C23,Stammdaten!$A$4:$A$203,0))),Einstellungen!$B$4)) | N23: =IF(OR(L23="",M23="",L23=0,M23=0),"",L23*M23) | Q23: =IF(SUM(J23,K23,N23,O23,P23)=0,"",SUM(J23,K23,N23,O23,P23))
B24: =IF(C24="","",COUNTIF($C$13:C24,"<>")) | D24: =IF(C24="","",IFERROR(INDEX(Stammdaten!$B$4:$B$203,MATCH(C24,Stammdaten!$A$4:$A$203,0)),"")) | E24: =IF(C24="","",IFERROR(INDEX(Stammdaten!$C$4:$C$203,MATCH(C24,Stammdaten!$A$4:$A$203,0)),"")) | M24: =IF(C24="","",IFERROR(IF(INDEX(Stammdaten!$D$4:$D$203,MATCH(C24,Stammdaten!$A$4:$A$203,0))=0,Einstellungen!$B$4,INDEX(Stammdaten!$D$4:$D$203,MATCH(C24,Stammdaten!$A$4:$A$203,0))),Einstellungen!$B$4)) | N24: =IF(OR(L24="",M24="",L24=0,M24=0),"",L24*M24) | Q24: =IF(SUM(J24,K24,N24,O24,P24)=0,"",SUM(J24,K24,N24,O24,P24))
D25: =IF(C25="","",IFERROR(INDEX(Stammdaten!$B$4:$B$203,MATCH(C25,Stammdaten!$A$4:$A$203,0)),"")) | E25: =IF(C25="","",IFERROR(INDEX(Stammdaten!$C$4:$C$203,MATCH(C25,Stammdaten!$A$4:$A$203,0)),"")) | M25: =IF(C25="","",IFERROR(IF(INDEX(Stammdaten!$D$4:$D$203,MATCH(C25,Stammdaten!$A$4:$A$203,0))=0,Einstellungen!$B$4,INDEX(Stammdaten!$D$4:$D$203,MATCH(C25,Stammdaten!$A$4:$A$203,0))),Einstellungen!$B$4)) | N25: =IF(OR(L25="",M25="",L25=0,M25=0),"",L25*M25) | Q25: =IF(SUM(J25,K25,N25,O25,P25)=0,"",SUM(J25,K25,N25,O25,P25))
D26: =IF(C26="","",IFERROR(INDEX(Stammdaten!$B$4:$B$203,MATCH(C26,Stammdaten!$A$4:$A$203,0)),"")) | E26: =IF(C26="","",IFERROR(INDEX(Stammdaten!$C$4:$C$203,MATCH(C26,Stammdaten!$A$4:$A$203,0)),"")) | M26: =IF(C26="","",IFERROR(IF(INDEX(Stammdaten!$D$4:$D$203,MATCH(C26,Stammdaten!$A$4:$A$203,0))=0,Einstellungen!$B$4,INDEX(Stammdaten!$D$4:$D$203,MATCH(C26,Stammdaten!$A$4:$A$203,0))),Einstellungen!$B$4)) | N26: =IF(OR(L26="",M26="",L26=0,M26=0),"",L26*M26) | Q26: =IF(SUM(J26,K26,N26,O26,P26)=0,"",SUM(J26,K26,N26,O26,P26))
D27: =IF(C27="","",IFERROR(INDEX(Stammdaten!$B$4:$B$203,MATCH(C27,Stammdaten!$A$4:$A$203,0)),"")) | E27: =IF(C27="","",IFERROR(INDEX(Stammdaten!$C$4:$C$203,MATCH(C27,Stammdaten!$A$4:$A$203,0)),"")) | M27: =IF(C27="","",IFERROR(IF(INDEX(Stammdaten!$D$4:$D$203,MATCH(C27,Stammdaten!$A$4:$A$203,0))=0,Einstellungen!$B$4,INDEX(Stammdaten!$D$4:$D$203,MATCH(C27,Stammdaten!$A$4:$A$203,0))),Einstellungen!$B$4)) | N27: =IF(OR(L27="",M27="",L27=0,M27=0),"",L27*M27) | Q27: =IF(SUM(J27,K27,N27,O27,P27)=0,"",SUM(J27,K27,N27,O27,P27))
D28: =IF(C28="","",IFERROR(INDEX(Stammdaten!$B$4:$B$203,MATCH(C28,Stammdaten!$A$4:$A$203,0)),"")) | E28: =IF(C28="","",IFERROR(INDEX(Stammdaten!$C$4:$C$203,MATCH(C28,Stammdaten!$A$4:$A$203,0)),"")) | M28: =IF(C28="","",IFERROR(IF(INDEX(Stammdaten!$D$4:$D$203,MATCH(C28,Stammdaten!$A$4:$A$203,0))=0,Einstellungen!$B$4,INDEX(Stammdaten!$D$4:$D$203,MATCH(C28,Stammdaten!$A$4:$A$203,0))),Einstellungen!$B$4)) | N28: =IF(OR(L28="",M28="",L28=0,M28=0),"",L28*M28) | Q28: =IF(SUM(J28,K28,N28,O28,P28)=0,"",SUM(J28,K28,N28,O28,P28))
D29: =IF(C29="","",IFERROR(INDEX(Stammdaten!$B$4:$B$203,MATCH(C29,Stammdaten!$A$4:$A$203,0)),"")) | E29: =IF(C29="","",IFERROR(INDEX(Stammdaten!$C$4:$C$203,MATCH(C29,Stammdaten!$A$4:$A$203,0)),"")) | M29: =IF(C29="","",IFERROR(IF(INDEX(Stammdaten!$D$4:$D$203,MATCH(C29,Stammdaten!$A$4:$A$203,0))=0,Einstellungen!$B$4,INDEX(Stammdaten!$D$4:$D$203,MATCH(C29,Stammdaten!$A$4:$A$203,0))),Einstellungen!$B$4)) | N29: =IF(OR(L29="",M29="",L29=0,M29=0),"",L29*M29) | Q29: =IF(SUM(J29,K29,N29,O29,P29)=0,"",SUM(J29,K29,N29,O29,P29))
D30: =IF(C30="","",IFERROR(INDEX(Stammdaten!$B$4:$B$203,MATCH(C30,Stammdaten!$A$4:$A$203,0)),"")) | E30: =IF(C30="","",IFERROR(INDEX(Stammdaten!$C$4:$C$203,MATCH(C30,Stammdaten!$A$4:$A$203,0)),"")) | M30: =IF(C30="","",IFERROR(IF(INDEX(Stammdaten!$D$4:$D$203,MATCH(C30,Stammdaten!$A$4:$A$203,0))=0,Einstellungen!$B$4,INDEX(Stammdaten!$D$4:$D$203,MATCH(C30,Stammdaten!$A$4:$A$203,0))),Einstellungen!$B$4)) | N30: =IF(OR(L30="",M30="",L30=0,M30=0),"",L30*M30) | Q30: =IF(SUM(J30,K30,N30,O30,P30)=0,"",SUM(J30,K30,N30,O30,P30))
D31: =IF(C31="","",IFERROR(INDEX(Stammdaten!$B$4:$B$203,MATCH(C31,Stammdaten!$A$4:$A$203,0)),"")) | E31: =IF(C31="","",IFERROR(INDEX(Stammdaten!$C$4:$C$203,MATCH(C31,Stammdaten!$A$4:$A$203,0)),"")) | M31: =IF(C31="","",IFERROR(IF(INDEX(Stammdaten!$D$4:$D$203,MATCH(C31,Stammdaten!$A$4:$A$203,0))=0,Einstellungen!$B$4,INDEX(Stammdaten!$D$4:$D$203,MATCH(C31,Stammdaten!$A$4:$A$203,0))),Einstellungen!$B$4)) | N31: =IF(OR(L31="",M31="",L31=0,M31=0),"",L31*M31) | Q31: =IF(SUM(J31,K31,N31,O31,P31)=0,"",SUM(J31,K31,N31,O31,P31))
D32: =IF(C32="","",IFERROR(INDEX(Stammdaten!$B$4:$B$203,MATCH(C32,Stammdaten!$A$4:$A$203,0)),"")) | E32: =IF(C32="","",IFERROR(INDEX(Stammdaten!$C$4:$C$203,MATCH(C32,Stammdaten!$A$4:$A$203,0)),"")) | M32: =IF(C32="","",IFERROR(IF(INDEX(Stammdaten!$D$4:$D$203,MATCH(C32,Stammdaten!$A$4:$A$203,0))=0,Einstellungen!$B$4,INDEX(Stammdaten!$D$4:$D$203,MATCH(C32,Stammdaten!$A$4:$A$203,0))),Einstellungen!$B$4)) | N32: =IF(OR(L32="",M32="",L32=0,M32=0),"",L32*M32) | Q32: =IF(SUM(J32,K32,N32,O32,P32)=0,"",SUM(J32,K32,N32,O32,P32))
C33: Summe: | Q33: =IF(SUM(Q13:Q32)=0,"",SUM(Q13:Q24))

Sheet Stammdaten
A1: Stammdaten – optional
A2: Das Formular funktioniert auch ohne Stammdaten. Name, Vorname, Wohnort und km-Satz können in der Sammelabrechnung jederzeit frei eingegeben bzw. überschrieben werden.
A3: Name | B3: Vorname | C3: Wohnort | D3: km-Satz

Sheet Einstellungen
A1: Einstellungen
A3: Einstellung | B3: Wert
A4: Standard-km-Satz | B4: 0.3
A5: Hinweis | B5: Der Standard-km-Satz wird verwendet, wenn für eine Person kein eigener Satz in den Stammdaten hinterlegt ist. Im Formular kann der Wert jederzeit überschrieben werden.
